OziExplorer Map Data File Version 2.2
100k--n37-007.gif
F:\Верея\100k--n37-007.ozfx3
1 ,Map Code,
Pulkovo 1942 (2),WGS 84, 0.0000, 0.0000,WGS 84
Reserved 1
Reserved 2
Magnetic Variation,,,E
Map Projection,Transverse Mercator,PolyCal,No,AutoCalOnly,No,BSBUseWPX,No
Point01,xy, 98, 90,in, deg, 56, 0.0000,N, 39, 0.0000,E, grid, , , ,N
Point02,xy, 1307, 91,in, deg, 56, 0.0000,N, 39, 15.0000,E, grid, , , ,N
Point03,xy, 2521, 85,in, deg, 56, 0.0000,N, 39, 30.0000,E, grid, , , ,N
Point04,xy, 94, 1535,in, deg, 55, 50.0000,N, 39, 0.0000,E, grid, , , ,N
Point05,xy, 1313, 1534,in, deg, 55, 50.0000,N, 39, 15.0000,E, grid, , , ,N
Point06,xy, 2530, 1528,in, deg, 55, 50.0000,N, 39, 30.0000,E, grid, , , ,N
Point07,xy, 89, 2976,in, deg, 55, 40.0000,N, 39, 0.0000,E, grid, , , ,N
Point08,xy, 1313, 2978,in, deg, 55, 40.0000,N, 39, 15.0000,E, grid, , , ,N
Point09,xy, 2538, 2973,in, deg, 55, 40.0000,N, 39, 30.0000,E, grid, , , ,N
Point10,xy, , ,in, deg, , ,N, , ,W, grid, , , ,N
Point11,xy, , ,in, deg, , ,N, , ,W, grid, , , ,N
Point12,xy, , ,in, deg, , ,N, , ,W, grid, , , ,N
Point13,xy, , ,in, deg, , ,N, , ,W, grid, , , ,N
Point14,xy, , ,in, deg, , ,N, , ,W, grid, , , ,N
Point15,xy, , ,in, deg, , ,N, , ,W, grid, , , ,N
Point16,xy, , ,in, deg, , ,N, , ,W, grid, , , ,N
Point17,xy, , ,in, deg, , ,N, , ,W, grid, , , ,N
Point18,xy, , ,in, deg, , ,N, , ,W, grid, , , ,N
Point19,xy, , ,in, deg, , ,N, , ,W, grid, , , ,N
Point20,xy, , ,in, deg, , ,N, , ,W, grid, , , ,N
Point21,xy, , ,in, deg, , ,N, , ,W, grid, , , ,N
Point22,xy, , ,in, deg, , ,N, , ,W, grid, , , ,N
Point23,xy, , ,in, deg, , ,N, , ,W, grid, , , ,N
Point24,xy, , ,in, deg, , ,N, , ,W, grid, , , ,N
Point25,xy, , ,in, deg, , ,N, , ,W, grid, , , ,N
Point26,xy, , ,in, deg, , ,N, , ,W, grid, , , ,N
Point27,xy, , ,in, deg, , ,N, , ,W, grid, , , ,N
Point28,xy, , ,in, deg, , ,N, , ,W, grid, , , ,N
Point29,xy, , ,in, deg, , ,N, , ,W, grid, , , ,N
Point30,xy, , ,in, deg, , ,N, , ,W, grid, , , ,N
Projection Setup, 0.000000000, 39.000000000, 1.000000000, 500000.00, 0.00,,,,,
Map Feature = MF ; Map Comment = MC These follow if they exist
Track File = TF These follow if they exist
Moving Map Parameters = MM? These follow if they exist
MM0,Yes
MMPNUM,4
MMPXY,1,98,90
MMPXY,2,2521,85
MMPXY,3,2538,2973
MMPXY,4,89,2976
MMPLL,1, 39.000000, 56.000000
MMPLL,2, 39.500000, 56.000000
MMPLL,3, 39.500000, 55.666667
MMPLL,4, 39.000000, 55.666667
MM1B,12.036435
MOP,Map Open Position,0,0
IWH,Map Image Width/Height,2624,3074
